OziExplorer Map Data File Version 2.2
01.jpg
1 ,Map Code,
Pulkovo 1942 (1),WGS 84, 0.0000, 0.0000,WGS 84
Reserved 1
Reserved 2
Magnetic Variation,,,E
Map Projection,Latitude/Longitude,PolyCal,No,AutoCalOnly,No,BSBUseWPX,No
Point01,xy, 86, 73,in, deg, 56, 0,N, 40, 0,E, grid, , , ,N
Point02,xy, 692, 77,in, deg, 56, 00,N, 41, 15,E, grid, , , ,N
Point03,xy, 2515, 76,in, deg, 56, 0,N, 41, 0,E, grid, , , ,N
Point04,xy, 83, 795,in, deg, 55, 50,N, 40, 0,E, grid, , , ,N
Point05,xy, 2515, 1504,in, deg, 55, 40,N, 41, 00,E, grid, , , ,N
Point06,xy, 81, 2927,in, deg, 55, 20,N, 40, 00,E, grid, , , ,N
Point07,xy, 1299, 2927,in, deg, 55, 20,N, 40, 30,E, grid, , , ,N
Point08,xy, 2517, 2920,in, deg, 55, 20,N, 41, 00,E, grid, , , ,N
Point09,xy, , ,in, deg, , ,N, , ,W, grid, , , ,N
Point10,xy, , ,in, deg, , ,N, , ,W, grid, , , ,N
Point11,xy, , ,in, deg, , ,N, , ,W, grid, , , ,N
Point12,xy, , ,in, deg, , ,N, , ,W, grid, , , ,N
Point13,xy, , ,in, deg, , ,N, , ,W, grid, , , ,N
Point14,xy, , ,in, deg, , ,N, , ,W, grid, , , ,N
Point15,xy, , ,in, deg, , ,N, , ,W, grid, , , ,N
Point16,xy, , ,in, deg, , ,N, , ,W, grid, , , ,N
Point17,xy, , ,in, deg, , ,N, , ,W, grid, , , ,N
Point18,xy, , ,in, deg, , ,N, , ,W, grid, , , ,N
Point19,xy, , ,in, deg, , ,N, , ,W, grid, , , ,N
Point20,xy, , ,in, deg, , ,N, , ,W, grid, , , ,N
Point21,xy, , ,in, deg, , ,N, , ,W, grid, , , ,N
Point22,xy, , ,in, deg, , ,N, , ,W, grid, , , ,N
Point23,xy, , ,in, deg, , ,N, , ,W, grid, , , ,N
Point24,xy, , ,in, deg, , ,N, , ,W, grid, , , ,N
Point25,xy, , ,in, deg, , ,N, , ,W, grid, , , ,N
Point26,xy, , ,in, deg, , ,N, , ,W, grid, , , ,N
Point27,xy, , ,in, deg, , ,N, , ,W, grid, , , ,N
Point28,xy, , ,in, deg, , ,N, , ,W, grid, , , ,N
Point29,xy, , ,in, deg, , ,N, , ,W, grid, , , ,N
Point30,xy, , ,in, deg, , ,N, , ,W, grid, , , ,N
Projection Setup,,,,,,,,,,
Map Feature = MF ; Map Comment = MC These follow if they exist
Track File = TF These follow if they exist
Moving Map Parameters = MM? These follow if they exist
MM0,Yes
MMPNUM,4
MMPXY,1,0,0
MMPXY,2,2600,0
MMPXY,3,2600,3005
MMPXY,4,0,3005
MMPLL,1, 40.210659, 56.018311
MMPLL,2, 41.353263, 56.017701
MMPLL,3, 41.024349, 55.314471
MMPLL,4, 39.881745, 55.315081
MM1B,27.668490
MOP,Map Open Position,0,0
IWH,Map Image Width/Height,2600,3005
