OziExplorer Map Data File Version 2.2
05.jpg
1 ,Map Code,
Pulkovo 1942 (1),WGS 84, 0.0000, 0.0000,WGS 84
Reserved 1
Reserved 2
Magnetic Variation,,,E
Map Projection,Latitude/Longitude,PolyCal,No,AutoCalOnly,No,BSBUseWPX,No
Point01,xy, 74, 70,in, deg, 55, 20,N, 42, 00,E, grid, , , ,N
Point02,xy, 1302, 71,in, deg, 55, 20,N, 42, 30,E, grid, , , ,N
Point03,xy, 2524, 66,in, deg, 55, 20,N, 43, 00,E, grid, , , ,N
Point04,xy, 72, 1478,in, deg, 55, 00,N, 42, 00,E, grid, , , ,N
Point05,xy, 2526, 1482,in, deg, 55, 00,N, 43, 00,E, grid, , , ,N
Point06,xy, 72, 2892,in, deg, 54, 40,N, 42, 00,E, grid, , , ,N
Point07,xy, 1302, 2893,in, deg, 54, 40,N, 42, 30,E, grid, , , ,N
Point08,xy, 2530, 2887,in, deg, 54, 40,N, 43, 00,E, grid, , , ,N
Point09,xy, , ,in, deg, , ,N, , ,W, grid, , , ,N
Point10,xy, , ,in, deg, , ,, , ,, grid, , , ,
Point11,xy, , ,in, deg, , ,, , ,, grid, , , ,
Point12,xy, , ,in, deg, , ,, , ,, grid, , , ,
Point13,xy, , ,in, deg, , ,, , ,, grid, , , ,
Point14,xy, , ,in, deg, , ,, , ,, grid, , , ,
Point15,xy, , ,in, deg, , ,, , ,, grid, , , ,
Point16,xy, , ,in, deg, , ,, , ,, grid, , , ,
Point17,xy, , ,in, deg, , ,, , ,, grid, , , ,
Point18,xy, , ,in, deg, , ,, , ,, grid, , , ,
Point19,xy, , ,in, deg, , ,, , ,, grid, , , ,
Point20,xy, , ,in, deg, , ,, , ,, grid, , , ,
Point21,xy, , ,in, deg, , ,, , ,, grid, , , ,
Point22,xy, , ,in, deg, , ,, , ,, grid, , , ,
Point23,xy, , ,in, deg, , ,, , ,, grid, , , ,
Point24,xy, , ,in, deg, , ,, , ,, grid, , , ,
Point25,xy, , ,in, deg, , ,, , ,, grid, , , ,
Point26,xy, , ,in, deg, , ,, , ,, grid, , , ,
Point27,xy, , ,in, deg, , ,, , ,, grid, , , ,
Point28,xy, , ,in, deg, , ,, , ,, grid, , , ,
Point29,xy, , ,in, deg, , ,, , ,, grid, , , ,
Point30,xy, , ,in, deg, , ,, , ,, grid, , , ,
Projection Setup,,,,,,,,,,
Map Feature = MF ; Map Comment = MC These follow if they exist
Track File = TF These follow if they exist
Moving Map Parameters = MM? These follow if they exist
MM0,Yes
MMPNUM,4
MMPXY,1,0,0
MMPXY,2,2600,0
MMPXY,3,2600,2949
MMPXY,4,0,2949
MMPLL,1, 41.970436, 55.349854
MMPLL,2, 43.029930, 55.349437
MMPLL,3, 43.029362, 54.652686
MMPLL,4, 41.969868, 54.653103
MM1B,26.088369
MOP,Map Open Position,0,0
IWH,Map Image Width/Height,2600,2949
