OziExplorer Map Data File Version 2.2
11.jpg
1 ,Map Code,
Pulkovo 1942 (1),WGS 84, 0.0000, 0.0000,WGS 84
Reserved 1
Reserved 2
Magnetic Variation,,,E
Map Projection,Latitude/Longitude,PolyCal,No,AutoCalOnly,No,BSBUseWPX,No
Point01,xy, 69, 67,in, deg, 54, 00,N, 38, 00,E, grid, , , ,N
Point02,xy, 1303, 70,in, deg, 54, 00,N, 38, 30,E, grid, , , ,N
Point03,xy, 2534, 68,in, deg, 54, 00,N, 39, 00,E, grid, , , ,N
Point04,xy, 69, 1433,in, deg, 53, 40,N, 38, 00,E, grid, , , ,N
Point05,xy, 2532, 1435,in, deg, 53, 40,N, 39, 00,E, grid, , , ,N
Point06,xy, 72, 2803,in, deg, 53, 20,N, 38, 00,E, grid, , , ,N
Point07,xy, 1301, 2801,in, deg, 53, 20,N, 38, 30,E, grid, , , ,N
Point08,xy, 2531, 2800,in, deg, 53, 20,N, 39, 00,E, grid, , , ,N
Point09,xy, , ,in, deg, , ,N, , ,W, grid, , , ,N
Point10,xy, , ,in, deg, , ,, , ,, grid, , , ,
Point11,xy, , ,in, deg, , ,, , ,, grid, , , ,
Point12,xy, , ,in, deg, , ,, , ,, grid, , , ,
Point13,xy, , ,in, deg, , ,, , ,, grid, , , ,
Point14,xy, , ,in, deg, , ,, , ,, grid, , , ,
Point15,xy, , ,in, deg, , ,, , ,, grid, , , ,
Point16,xy, , ,in, deg, , ,, , ,, grid, , , ,
Point17,xy, , ,in, deg, , ,, , ,, grid, , , ,
Point18,xy, , ,in, deg, , ,, , ,, grid, , , ,
Point19,xy, , ,in, deg, , ,, , ,, grid, , , ,
Point20,xy, , ,in, deg, , ,, , ,, grid, , , ,
Point21,xy, , ,in, deg, , ,, , ,, grid, , , ,
Point22,xy, , ,in, deg, , ,, , ,, grid, , , ,
Point23,xy, , ,in, deg, , ,, , ,, grid, , , ,
Point24,xy, , ,in, deg, , ,, , ,, grid, , , ,
Point25,xy, , ,in, deg, , ,, , ,, grid, , , ,
Point26,xy, , ,in, deg, , ,, , ,, grid, , , ,
Point27,xy, , ,in, deg, , ,, , ,, grid, , , ,
Point28,xy, , ,in, deg, , ,, , ,, grid, , , ,
Point29,xy, , ,in, deg, , ,, , ,, grid, , , ,
Point30,xy, , ,in, deg, , ,, , ,, grid, , , ,
Projection Setup,,,,,,,,,,
Map Feature = MF ; Map Comment = MC These follow if they exist
Track File = TF These follow if they exist
Moving Map Parameters = MM? These follow if they exist
MM0,Yes
MMPNUM,4
MMPXY,1,0,0
MMPXY,2,2600,0
MMPXY,3,2600,2870
MMPXY,4,0,2870
MMPLL,1, 37.971345, 54.016618
MMPLL,2, 39.027254, 54.016618
MMPLL,3, 39.027538, 53.316533
MMPLL,4, 37.971629, 53.316533
MM1B,26.854050
MOP,Map Open Position,0,0
IWH,Map Image Width/Height,2600,2870
