OziExplorer Map Data File Version 2.2
12.jpg
1 ,Map Code,
Pulkovo 1942 (1),WGS 84, 0.0000, 0.0000,WGS 84
Reserved 1
Reserved 2
Magnetic Variation,,,E
Map Projection,Latitude/Longitude,PolyCal,No,AutoCalOnly,No,BSBUseWPX,No
Point01,xy, 61, 68,in, deg, 54, 00,N, 39, 00,E, grid, , , ,N
Point02,xy, 1301, 73,in, deg, 54, 00,N, 39, 30,E, grid, , , ,N
Point03,xy, 2539, 67,in, deg, 54, 00,N, 40, 00,E, grid, , , ,N
Point04,xy, 58, 1452,in, deg, 53, 40,N, 39, 00,E, grid, , , ,N
Point05,xy, 2539, 1455,in, deg, 53, 40,N, 40, 00,E, grid, , , ,N
Point06,xy, 59, 2835,in, deg, 53, 20,N, 39, 00,E, grid, , , ,N
Point07,xy, 1304, 2841,in, deg, 53, 20,N, 39, 30,E, grid, , , ,N
Point08,xy, 2542, 2837,in, deg, 53, 20,N, 40, 00,E, grid, , , ,N
Point09,xy, , ,in, deg, , ,N, , ,W, grid, , , ,N
Point10,xy, , ,in, deg, , ,, , ,, grid, , , ,
Point11,xy, , ,in, deg, , ,, , ,, grid, , , ,
Point12,xy, , ,in, deg, , ,, , ,, grid, , , ,
Point13,xy, , ,in, deg, , ,, , ,, grid, , , ,
Point14,xy, , ,in, deg, , ,, , ,, grid, , , ,
Point15,xy, , ,in, deg, , ,, , ,, grid, , , ,
Point16,xy, , ,in, deg, , ,, , ,, grid, , , ,
Point17,xy, , ,in, deg, , ,, , ,, grid, , , ,
Point18,xy, , ,in, deg, , ,, , ,, grid, , , ,
Point19,xy, , ,in, deg, , ,, , ,, grid, , , ,
Point20,xy, , ,in, deg, , ,, , ,, grid, , , ,
Point21,xy, , ,in, deg, , ,, , ,, grid, , , ,
Point22,xy, , ,in, deg, , ,, , ,, grid, , , ,
Point23,xy, , ,in, deg, , ,, , ,, grid, , , ,
Point24,xy, , ,in, deg, , ,, , ,, grid, , , ,
Point25,xy, , ,in, deg, , ,, , ,, grid, , , ,
Point26,xy, , ,in, deg, , ,, , ,, grid, , , ,
Point27,xy, , ,in, deg, , ,, , ,, grid, , , ,
Point28,xy, , ,in, deg, , ,, , ,, grid, , , ,
Point29,xy, , ,in, deg, , ,, , ,, grid, , , ,
Point30,xy, , ,in, deg, , ,, , ,, grid, , , ,
Projection Setup,,,,,,,,,,
Map Feature = MF ; Map Comment = MC These follow if they exist
Track File = TF These follow if they exist
Moving Map Parameters = MM? These follow if they exist
MM0,Yes
MMPNUM,4
MMPXY,1,0,0
MMPXY,2,2600,0
MMPXY,3,2600,2897
MMPXY,4,0,2897
MMPLL,1, 38.976078, 54.016529
MMPLL,2, 40.024184, 54.016865
MMPLL,3, 40.023621, 53.319213
MMPLL,4, 38.975516, 53.318876
MM1B,26.654696
MOP,Map Open Position,0,0
IWH,Map Image Width/Height,2600,2897
